BEGIN:VCALENDAR
VERSION:2.0
PRODID:-//Tunisian Rowing Federation - ECPv6.15.20//NONSGML v1.0//EN
CALSCALE:GREGORIAN
METHOD:PUBLISH
X-ORIGINAL-URL:https://trf.org.tn
X-WR-CALDESC:Évènements pour Tunisian Rowing Federation
REFRESH-INTERVAL;VALUE=DURATION:PT1H
X-Robots-Tag:noindex
X-PUBLISHED-TTL:PT1H
BEGIN:VTIMEZONE
TZID:Africa/Tunis
BEGIN:STANDARD
TZOFFSETFROM:+0100
TZOFFSETTO:+0100
TZNAME:CET
DTSTART:20210101T000000
END:STANDARD
END:VTIMEZONE
BEGIN:VEVENT
DTSTART;VALUE=DATE:20221224
DTEND;VALUE=DATE:20221226
DTSTAMP:20260425T180542
CREATED:20220130T192132Z
LAST-MODIFIED:20220202T162742Z
UID:20514-1671840000-1672012799@trf.org.tn
SUMMARY:Championnats de Tunisie longue distance 2022
DESCRIPTION:Invitation au ClubsAvant ProgrammeProgrammeRésultatsInvitation au Clubs\nTélécharger\n\n\n\nAvant Programme\nTélécharger\n\n\n\nProgramme\nTélécharger\n\n\n\nRésultats\nTélécharger
URL:https://trf.org.tn/evenement/championnats-tunisie-longue-distance-2022/
LOCATION:Club Nautique du Lac de Tunis
CATEGORIES:Evénement National
ATTACH;FMTTYPE=image/jpeg:https://trf.org.tn/wp-content/uploads/2019/07/Championnat-de-Tunisie-Aviron-Olympique-2019-J3.jpg
END:VEVENT
END:VCALENDAR