BEGIN:VCALENDAR
VERSION:2.0
PRODID:-//Tunisian Rowing Federation - ECPv6.15.20//NONSGML v1.0//EN
CALSCALE:GREGORIAN
METHOD:PUBLISH
X-WR-CALNAME:Tunisian Rowing Federation
X-ORIGINAL-URL:https://trf.org.tn
X-WR-CALDESC:Évènements pour Tunisian Rowing Federation
REFRESH-INTERVAL;VALUE=DURATION:PT1H
X-Robots-Tag:noindex
X-PUBLISHED-TTL:PT1H
BEGIN:VTIMEZONE
TZID:Africa/Tunis
BEGIN:STANDARD
TZOFFSETFROM:+0100
TZOFFSETTO:+0100
TZNAME:CET
DTSTART:20210101T000000
END:STANDARD
END:VTIMEZONE
BEGIN:VEVENT
DTSTART;TZID=Africa/Tunis:20221002T080000
DTEND;TZID=Africa/Tunis:20221002T150000
DTSTAMP:20260425T211035
CREATED:20220202T161149Z
LAST-MODIFIED:20220809T115217Z
UID:21506-1664697600-1664722800@trf.org.tn
SUMMARY:Coupe de Tunisie d'Aviron Classique 2022
DESCRIPTION:
URL:https://trf.org.tn/evenement/coupe-tunisie-aviron-classique-2022/
LOCATION:Club Nautique du Lac de Tunis
CATEGORIES:Evénement National
ATTACH;FMTTYPE=image/jpeg:https://trf.org.tn/wp-content/uploads/2021/10/IMG_0791-e1640017541201.jpg
END:VEVENT
BEGIN:VEVENT
DTSTART;VALUE=DATE:20221009
DTEND;VALUE=DATE:20221010
DTSTAMP:20260425T211035
CREATED:20220324T110701Z
LAST-MODIFIED:20221009T011850Z
UID:21538-1665273600-1665359999@trf.org.tn
SUMMARY:Championnat de Tunisie d'Aviron de Plage Sprint 2022
DESCRIPTION:PrésentationInvitation au ClubsPlanAvant ProgrammeStartlistRésultatsPrésentation\nClubs participants :\n\n\nASL : Association Sportive du Lac\nCNMT : Club Nautique de la Marine Tunisienne\nCNS : Club Nautique Soussien\nCSCDGF : Club Sportif et Culturel de la DG de Formation de Salambo\nCTASD : Club Tipaza des Activités Subaquatiques Ajim Djerba\nEPT : Ecole de Pêche de Tabarka\nEFLAC : Ecole Fédérale du Lac\nAT : Aviron Tunisois\nAPT : Aviron pour Tous.\n\n\nInvitation au ClubsTéléchargerPlanTéléchargerAvant ProgrammeTéléchargerStartlistTéléchargerRésultatsTélécharger
URL:https://trf.org.tn/evenement/championnat-tunisie-aviron-plage-sprint-2022/
LOCATION:Plage la Goulette\, R874+H74\, La Goulette\, Tunisie
CATEGORIES:Evénement National
ATTACH;FMTTYPE=image/jpeg:https://trf.org.tn/wp-content/uploads/2021/11/IMG_2071-e1635978120248.jpg
END:VEVENT
END:VCALENDAR