BEGIN:VCALENDAR
VERSION:2.0
PRODID:-//Tunisian Rowing Federation - ECPv6.15.20//NONSGML v1.0//EN
CALSCALE:GREGORIAN
METHOD:PUBLISH
X-ORIGINAL-URL:https://trf.org.tn
X-WR-CALDESC:Évènements pour Tunisian Rowing Federation
REFRESH-INTERVAL;VALUE=DURATION:PT1H
X-Robots-Tag:noindex
X-PUBLISHED-TTL:PT1H
BEGIN:VTIMEZONE
TZID:Africa/Tunis
BEGIN:STANDARD
TZOFFSETFROM:+0100
TZOFFSETTO:+0100
TZNAME:CET
DTSTART:20210101T000000
END:STANDARD
END:VTIMEZONE
BEGIN:VEVENT
DTSTART;TZID=Africa/Tunis:20220717T080000
DTEND;TZID=Africa/Tunis:20220717T150000
DTSTAMP:20260426T015854
CREATED:20220202T160031Z
LAST-MODIFIED:20220324T105756Z
UID:21500-1658044800-1658070000@trf.org.tn
SUMMARY:Championnat de Tunisie d'Aviron Classique 2022 (J3)
DESCRIPTION:
URL:https://trf.org.tn/evenement/championnat-tunisie-aviron-classique-2022-j3/
LOCATION:Club Nautique du Lac de Tunis
CATEGORIES:Evénement National
ATTACH;FMTTYPE=image/jpeg:https://trf.org.tn/wp-content/uploads/2021/04/Championnat-de-Tunisie-Aviron-Classique-2021-J1-scaled-e1636539071935.jpg
END:VEVENT
END:VCALENDAR