BEGIN:VCALENDAR
VERSION:2.0
PRODID:-//Tunisian Rowing Federation - ECPv6.15.20//NONSGML v1.0//EN
CALSCALE:GREGORIAN
METHOD:PUBLISH
X-ORIGINAL-URL:https://trf.org.tn
X-WR-CALDESC:Évènements pour Tunisian Rowing Federation
REFRESH-INTERVAL;VALUE=DURATION:PT1H
X-Robots-Tag:noindex
X-PUBLISHED-TTL:PT1H
BEGIN:VTIMEZONE
TZID:Africa/Tunis
BEGIN:STANDARD
TZOFFSETFROM:+0100
TZOFFSETTO:+0100
TZNAME:CET
DTSTART:20180101T000000
END:STANDARD
END:VTIMEZONE
BEGIN:VEVENT
DTSTART;TZID=Africa/Tunis:20190309T140000
DTEND;TZID=Africa/Tunis:20190309T173000
DTSTAMP:20260424T154704
CREATED:20190307T163152Z
LAST-MODIFIED:20190307T163152Z
UID:14158-1552140000-1552152600@trf.org.tn
SUMMARY:Journée Porte Ouverte d'Aviron Féminin
DESCRIPTION:
URL:https://trf.org.tn/evenement/journee-porte-ouverte-aviron-feminin/
LOCATION:Club Nautique du Lac de Tunis
CATEGORIES:Evénement National
ATTACH;FMTTYPE=image/jpeg:https://trf.org.tn/wp-content/uploads/2019/03/Affiche-JPO-Aviron-Feminin-2019.jpg
END:VEVENT
END:VCALENDAR